Package: DEP
Version: 1.27.0
Command: F:\biocbuild\bbs-3.20-bioc\R\bin\R.exe CMD INSTALL DEP
StartedAt: 2024-06-09 16:25:21 -0400 (Sun, 09 Jun 2024)
EndedAt: 2024-06-09 16:26:17 -0400 (Sun, 09 Jun 2024)
EllapsedTime: 55.9 seconds
RetCode: 0
Status: OK