Package: DEP Version: 1.28.0 Command: chmod a+r DEP -R && F:\biocbuild\bbs-3.20-bioc\R\bin\R.exe CMD build --keep-empty-dirs --no-resave-data DEP StartedAt: 2025-02-13 18:19:20 -0500 (Thu, 13 Feb 2025) EndedAt: 2025-02-13 18:21:21 -0500 (Thu, 13 Feb 2025) EllapsedTime: 120.8 seconds RetCode: 0 Status: OK PackageFile: DEP_1.28.0.tar.gz PackageFileSize: 2.202 <A href="http://en.wikipedia.org/wiki/MiB" target="_blank">MiB</A>