Package: DESeq2 Version: 1.46.0 Command: rm -rf DESeq2.buildbin-libdir && mkdir DESeq2.buildbin-libdir && /Users/biocbuild/BBS/utils/build-universal.sh DESeq2_1.46.0.tar.gz /Library/Frameworks/R.framework/Resources/bin/R DESeq2.buildbin-libdir StartedAt: 2024-11-20 04:23:34 -0500 (Wed, 20 Nov 2024) EndedAt: 2024-11-20 04:24:42 -0500 (Wed, 20 Nov 2024) EllapsedTime: 68.3 seconds RetCode: 0 Status: OK PackageFile: DESeq2_1.46.0.tgz PackageFileSize: 3.922 MiB