Package: DESeq2 Version: 1.46.0 Command: /Library/Frameworks/R.framework/Resources/bin/R CMD build --keep-empty-dirs --no-resave-data DESeq2 StartedAt: 2024-11-19 16:36:29 -0500 (Tue, 19 Nov 2024) EndedAt: 2024-11-19 16:39:07 -0500 (Tue, 19 Nov 2024) EllapsedTime: 158.0 seconds RetCode: 0 Status: OK PackageFile: DESeq2_1.46.0.tar.gz PackageFileSize: 3.297 MiB