Package: DESeq2 Version: 1.46.0 Command: /Library/Frameworks/R.framework/Resources/bin/R CMD build --keep-empty-dirs --no-resave-data DESeq2 StartedAt: 2025-01-30 18:35:13 -0500 (Thu, 30 Jan 2025) EndedAt: 2025-01-30 18:40:23 -0500 (Thu, 30 Jan 2025) EllapsedTime: 310.4 seconds RetCode: 0 Status: OK PackageFile: DESeq2_1.46.0.tar.gz PackageFileSize: 3.297 MiB