Package: DESeq2 Version: 1.46.0 Command: /home/biocbuild/bbs-3.20-bioc/R/bin/R CMD build --keep-empty-dirs --no-resave-data --md5 DESeq2 StartedAt: 2025-01-30 17:01:00 -0500 (Thu, 30 Jan 2025) EndedAt: 2025-01-30 17:02:52 -0500 (Thu, 30 Jan 2025) EllapsedTime: 112.1 seconds RetCode: 0 Status: OK PackageFile: DESeq2_1.46.0.tar.gz PackageFileSize: 2.401 MiB