Package: DESeq2 Version: 1.46.0 Command: /home/biocbuild/bbs-3.20-bioc/R/bin/R CMD check --install=check:DESeq2.install-out.txt --library=/home/biocbuild/bbs-3.20-bioc/R/site-library --timings DESeq2_1.46.0.tar.gz StartedAt: 2025-01-30 21:36:08 -0500 (Thu, 30 Jan 2025) EndedAt: 2025-01-30 21:43:27 -0500 (Thu, 30 Jan 2025) EllapsedTime: 438.4 seconds RetCode: 0 Status: OK CheckDir: DESeq2.Rcheck Warnings: 0