Package: DESeq2 Version: 1.46.0 Command: /home/biocbuild/bbs-3.20-bioc/R/bin/R CMD INSTALL DESeq2 StartedAt: 2025-01-30 15:17:20 -0500 (Thu, 30 Jan 2025) EndedAt: 2025-01-30 15:18:07 -0500 (Thu, 30 Jan 2025) EllapsedTime: 46.9 seconds RetCode: 0 Status: OK