Package: DESeq2 Version: 1.46.0 Command: rm -rf DESeq2.buildbin-libdir && mkdir DESeq2.buildbin-libdir && F:\biocbuild\bbs-3.20-bioc\R\bin\R.exe CMD INSTALL --build --library=DESeq2.buildbin-libdir DESeq2_1.46.0.tar.gz StartedAt: 2025-01-31 08:32:07 -0500 (Fri, 31 Jan 2025) EndedAt: 2025-01-31 08:33:27 -0500 (Fri, 31 Jan 2025) EllapsedTime: 80.1 seconds RetCode: 0 Status: OK PackageFile: DESeq2_1.46.0.zip PackageFileSize: 2.278 MiB