Package: DESeq2 Version: 1.46.0 Command: /home/biocbuild/R/R/bin/R CMD check --install=check:DESeq2.install-out.txt --library=/home/biocbuild/R/R/site-library --no-vignettes --timings DESeq2_1.46.0.tar.gz StartedAt: 2025-01-31 05:38:30 -0000 (Fri, 31 Jan 2025) EndedAt: 2025-01-31 05:46:59 -0000 (Fri, 31 Jan 2025) EllapsedTime: 509.4 seconds RetCode: 0 Status: OK CheckDir: DESeq2.Rcheck Warnings: 0