Package: DESeq2 Version: 1.46.0 Command: /home/biocbuild/R/R/bin/R CMD INSTALL DESeq2 StartedAt: 2025-01-30 20:21:41 -0000 (Thu, 30 Jan 2025) EndedAt: 2025-01-30 20:22:47 -0000 (Thu, 30 Jan 2025) EllapsedTime: 65.9 seconds RetCode: 0 Status: OK