Package: DESpace
Version: 1.5.0
Command: /Library/Frameworks/R.framework/Resources/bin/R CMD check --install=check:DESpace.install-out.txt --library=/Library/Frameworks/R.framework/Resources/library --no-vignettes --timings DESpace_1.5.0.tar.gz
StartedAt: 2024-10-21 21:13:47 -0400 (Mon, 21 Oct 2024)
EndedAt: 2024-10-21 21:20:48 -0400 (Mon, 21 Oct 2024)
EllapsedTime: 421.3 seconds
RetCode: 0
Status: OK
CheckDir: DESpace.Rcheck
Warnings: 0