Package: DESpace Version: 1.6.0 Command: /home/biocbuild/R/R/bin/R CMD build --keep-empty-dirs --no-resave-data DESpace StartedAt: 2025-02-03 23:10:18 -0000 (Mon, 03 Feb 2025) EndedAt: 2025-02-03 23:14:51 -0000 (Mon, 03 Feb 2025) EllapsedTime: 272.1 seconds RetCode: 1 Status: ERROR PackageFile: None PackageFileSize: NA