Package: DESpace Version: 1.6.0 Command: /home/biocbuild/R/R/bin/R CMD INSTALL DESpace StartedAt: 2025-02-03 21:20:42 -0000 (Mon, 03 Feb 2025) EndedAt: 2025-02-03 21:21:16 -0000 (Mon, 03 Feb 2025) EllapsedTime: 33.5 seconds RetCode: 0 Status: OK