Package: DEWSeq Version: 1.20.0 Command: /Library/Frameworks/R.framework/Resources/bin/R CMD INSTALL DEWSeq StartedAt: 2025-02-03 15:38:48 -0500 (Mon, 03 Feb 2025) EndedAt: 2025-02-03 15:39:40 -0500 (Mon, 03 Feb 2025) EllapsedTime: 52.1 seconds RetCode: 0 Status: OK