Package: DEWSeq Version: 1.20.0 Command: /home/biocbuild/bbs-3.20-bioc/R/bin/R CMD check --install=check:DEWSeq.install-out.txt --library=/home/biocbuild/bbs-3.20-bioc/R/site-library --timings DEWSeq_1.20.0.tar.gz StartedAt: 2025-02-03 21:47:59 -0500 (Mon, 03 Feb 2025) EndedAt: 2025-02-03 21:53:17 -0500 (Mon, 03 Feb 2025) EllapsedTime: 317.3 seconds RetCode: 0 Status: OK CheckDir: DEWSeq.Rcheck Warnings: 0