Package: DEWSeq Version: 1.20.0 Command: F:\biocbuild\bbs-3.20-bioc\R\bin\R.exe CMD INSTALL DEWSeq StartedAt: 2025-02-03 16:27:31 -0500 (Mon, 03 Feb 2025) EndedAt: 2025-02-03 16:28:04 -0500 (Mon, 03 Feb 2025) EllapsedTime: 33.3 seconds RetCode: 0 Status: OK