Package: DEXSeq Version: 1.52.0 Command: /Library/Frameworks/R.framework/Resources/bin/R CMD INSTALL DEXSeq StartedAt: 2025-01-30 17:36:58 -0500 (Thu, 30 Jan 2025) EndedAt: 2025-01-30 17:37:41 -0500 (Thu, 30 Jan 2025) EllapsedTime: 42.7 seconds RetCode: 0 Status: OK