Package: DEXSeq Version: 1.52.0 Command: /Library/Frameworks/R.framework/Resources/bin/R CMD build --keep-empty-dirs --no-resave-data DEXSeq StartedAt: 2025-01-30 18:36:36 -0500 (Thu, 30 Jan 2025) EndedAt: 2025-01-30 18:41:08 -0500 (Thu, 30 Jan 2025) EllapsedTime: 272.2 seconds RetCode: 0 Status: OK PackageFile: DEXSeq_1.52.0.tar.gz PackageFileSize: 1.779 MiB