Package: DEXSeq Version: 1.52.0 Command: /home/biocbuild/bbs-3.20-bioc/R/bin/R CMD check --install=check:DEXSeq.install-out.txt --library=/home/biocbuild/bbs-3.20-bioc/R/site-library --timings DEXSeq_1.52.0.tar.gz StartedAt: 2025-01-30 21:38:28 -0500 (Thu, 30 Jan 2025) EndedAt: 2025-01-30 21:44:31 -0500 (Thu, 30 Jan 2025) EllapsedTime: 362.4 seconds RetCode: 0 Status: OK CheckDir: DEXSeq.Rcheck Warnings: 0