Package: DEXSeq Version: 1.52.0 Command: /home/biocbuild/bbs-3.20-bioc/R/bin/R CMD INSTALL DEXSeq StartedAt: 2025-01-30 15:49:20 -0500 (Thu, 30 Jan 2025) EndedAt: 2025-01-30 15:50:03 -0500 (Thu, 30 Jan 2025) EllapsedTime: 43.6 seconds RetCode: 0 Status: OK