Package: DEXSeq Version: 1.52.0 Command: chmod a+r DEXSeq -R && F:\biocbuild\bbs-3.20-bioc\R\bin\R.exe CMD build --keep-empty-dirs --no-resave-data DEXSeq StartedAt: 2025-01-30 18:25:51 -0500 (Thu, 30 Jan 2025) EndedAt: 2025-01-30 18:28:46 -0500 (Thu, 30 Jan 2025) EllapsedTime: 175.1 seconds RetCode: 0 Status: OK PackageFile: DEXSeq_1.52.0.tar.gz PackageFileSize: 581.8 KiB