Package: DEqMS Version: 1.24.0 Command: /Library/Frameworks/R.framework/Resources/bin/R CMD INSTALL DEqMS StartedAt: 2025-02-03 15:38:54 -0500 (Mon, 03 Feb 2025) EndedAt: 2025-02-03 15:38:57 -0500 (Mon, 03 Feb 2025) EllapsedTime: 3.5 seconds RetCode: 0 Status: OK