Package: DEqMS Version: 1.24.0 Command: rm -rf DEqMS.buildbin-libdir && mkdir DEqMS.buildbin-libdir && /Users/biocbuild/BBS/utils/build-universal.sh DEqMS_1.24.0.tar.gz /Library/Frameworks/R.framework/Resources/bin/R DEqMS.buildbin-libdir StartedAt: 2025-02-04 12:49:10 -0500 (Tue, 04 Feb 2025) EndedAt: 2025-02-04 12:49:22 -0500 (Tue, 04 Feb 2025) EllapsedTime: 12.0 seconds RetCode: 0 Status: OK PackageFile: DEqMS_1.24.0.tgz PackageFileSize: 2.243 MiB