Package: DEqMS Version: 1.24.0 Command: /Library/Frameworks/R.framework/Resources/bin/R CMD build --keep-empty-dirs --no-resave-data DEqMS StartedAt: 2025-02-03 18:26:54 -0500 (Mon, 03 Feb 2025) EndedAt: 2025-02-03 18:28:36 -0500 (Mon, 03 Feb 2025) EllapsedTime: 102.2 seconds RetCode: 0 Status: OK PackageFile: DEqMS_1.24.0.tar.gz PackageFileSize: 2.304 MiB