Package: DEqMS Version: 1.24.0 Command: /Library/Frameworks/R.framework/Resources/bin/R CMD check --install=check:DEqMS.install-out.txt --library=/Library/Frameworks/R.framework/Resources/library --no-vignettes --timings DEqMS_1.24.0.tar.gz StartedAt: 2025-02-04 02:38:11 -0500 (Tue, 04 Feb 2025) EndedAt: 2025-02-04 02:46:13 -0500 (Tue, 04 Feb 2025) EllapsedTime: 482.2 seconds RetCode: 0 Status: OK CheckDir: DEqMS.Rcheck Warnings: 0