Package: DEqMS Version: 1.24.0 Command: chmod a+r DEqMS -R && F:\biocbuild\bbs-3.20-bioc\R\bin\R.exe CMD build --keep-empty-dirs --no-resave-data DEqMS StartedAt: 2025-02-03 18:38:15 -0500 (Mon, 03 Feb 2025) EndedAt: 2025-02-03 18:39:39 -0500 (Mon, 03 Feb 2025) EllapsedTime: 83.5 seconds RetCode: 0 Status: OK PackageFile: DEqMS_1.24.0.tar.gz PackageFileSize: 705.5 KiB