Package: DEqMS Version: 1.24.0 Command: /home/biocbuild/R/R/bin/R CMD check --install=check:DEqMS.install-out.txt --library=/home/biocbuild/R/R/site-library --no-vignettes --timings DEqMS_1.24.0.tar.gz StartedAt: 2025-02-04 06:22:22 -0000 (Tue, 04 Feb 2025) EndedAt: 2025-02-04 06:25:34 -0000 (Tue, 04 Feb 2025) EllapsedTime: 192.2 seconds RetCode: 0 Status: OK CheckDir: DEqMS.Rcheck Warnings: 0