Package: DEsingle Version: 1.26.0 Command: /home/biocbuild/bbs-3.20-bioc/R/bin/R CMD check --install=check:DEsingle.install-out.txt --library=/home/biocbuild/bbs-3.20-bioc/R/site-library --timings DEsingle_1.26.0.tar.gz StartedAt: 2025-02-17 21:32:54 -0500 (Mon, 17 Feb 2025) EndedAt: 2025-02-17 21:35:30 -0500 (Mon, 17 Feb 2025) EllapsedTime: 156.1 seconds RetCode: 0 Status: OK CheckDir: DEsingle.Rcheck Warnings: 0