Package: DEsingle Version: 1.26.0 Command: rm -rf DEsingle.buildbin-libdir && mkdir DEsingle.buildbin-libdir && F:\biocbuild\bbs-3.20-bioc\R\bin\R.exe CMD INSTALL --build --library=DEsingle.buildbin-libdir DEsingle_1.26.0.tar.gz StartedAt: 2025-02-04 08:22:13 -0500 (Tue, 04 Feb 2025) EndedAt: 2025-02-04 08:22:26 -0500 (Tue, 04 Feb 2025) EllapsedTime: 12.1 seconds RetCode: 0 Status: OK PackageFile: DEsingle_1.26.0.zip PackageFileSize: 398.1 KiB