Package: DEsingle Version: 1.26.0 Command: /home/biocbuild/R/R/bin/R CMD build --keep-empty-dirs --no-resave-data DEsingle StartedAt: 2025-02-03 23:10:17 -0000 (Mon, 03 Feb 2025) EndedAt: 2025-02-03 23:10:32 -0000 (Mon, 03 Feb 2025) EllapsedTime: 15.0 seconds RetCode: 0 Status: OK PackageFile: DEsingle_1.26.0.tar.gz PackageFileSize: 447.6 KiB