Package: DEsingle Version: 1.26.0 Command: /home/biocbuild/R/R/bin/R CMD INSTALL DEsingle StartedAt: 2025-02-03 21:08:49 -0000 (Mon, 03 Feb 2025) EndedAt: 2025-02-03 21:08:59 -0000 (Mon, 03 Feb 2025) EllapsedTime: 9.7 seconds RetCode: 0 Status: OK