Package: DExMA Version: 1.14.0 Command: rm -rf DExMA.buildbin-libdir && mkdir DExMA.buildbin-libdir && /Users/biocbuild/BBS/utils/build-universal.sh DExMA_1.14.0.tar.gz /Library/Frameworks/R.framework/Resources/bin/R DExMA.buildbin-libdir StartedAt: 2025-02-05 15:35:35 -0500 (Wed, 05 Feb 2025) EndedAt: 2025-02-05 15:36:17 -0500 (Wed, 05 Feb 2025) EllapsedTime: 41.9 seconds RetCode: 0 Status: OK PackageFile: DExMA_1.14.0.tgz PackageFileSize: 404.7 KiB