Package: DExMA Version: 1.14.0 Command: /Library/Frameworks/R.framework/Resources/bin/R CMD check --install=check:DExMA.install-out.txt --library=/Library/Frameworks/R.framework/Resources/library --no-vignettes --timings DExMA_1.14.0.tar.gz StartedAt: 2025-02-04 02:42:38 -0500 (Tue, 04 Feb 2025) EndedAt: 2025-02-04 02:51:50 -0500 (Tue, 04 Feb 2025) EllapsedTime: 552.3 seconds RetCode: 0 Status: OK CheckDir: DExMA.Rcheck Warnings: 0