Package: DExMA Version: 1.14.0 Command: /Library/Frameworks/R.framework/Resources/bin/R CMD INSTALL DExMA StartedAt: 2025-02-03 16:28:09 -0500 (Mon, 03 Feb 2025) EndedAt: 2025-02-03 16:29:17 -0500 (Mon, 03 Feb 2025) EllapsedTime: 68.6 seconds RetCode: 0 Status: OK