Package: DExMA Version: 1.14.0 Command: rm -rf DExMA.buildbin-libdir && mkdir DExMA.buildbin-libdir && F:\biocbuild\bbs-3.20-bioc\R\bin\R.exe CMD INSTALL --build --library=DExMA.buildbin-libdir DExMA_1.14.0.tar.gz StartedAt: 2025-02-04 08:22:28 -0500 (Tue, 04 Feb 2025) EndedAt: 2025-02-04 08:23:10 -0500 (Tue, 04 Feb 2025) EllapsedTime: 41.9 seconds RetCode: 0 Status: OK PackageFile: DExMA_1.14.0.zip PackageFileSize: 412.2 KiB