Package: DExMA Version: 1.14.0 Command: /home/biocbuild/R/R/bin/R CMD build --keep-empty-dirs --no-resave-data DExMA StartedAt: 2025-02-03 23:10:33 -0000 (Mon, 03 Feb 2025) EndedAt: 2025-02-03 23:11:37 -0000 (Mon, 03 Feb 2025) EllapsedTime: 64.0 seconds RetCode: 0 Status: OK PackageFile: DExMA_1.14.0.tar.gz PackageFileSize: 303.8 KiB