Package: DExMA Version: 1.14.0 Command: /home/biocbuild/R/R/bin/R CMD check --install=check:DExMA.install-out.txt --library=/home/biocbuild/R/R/site-library --no-vignettes --timings DExMA_1.14.0.tar.gz StartedAt: 2025-02-04 06:24:03 -0000 (Tue, 04 Feb 2025) EndedAt: 2025-02-04 06:28:42 -0000 (Tue, 04 Feb 2025) EllapsedTime: 279.3 seconds RetCode: 0 Status: OK CheckDir: DExMA.Rcheck Warnings: 0