Package: DFP Version: 1.64.0 Command: /Library/Frameworks/R.framework/Resources/bin/R CMD build --keep-empty-dirs --no-resave-data DFP StartedAt: 2025-02-03 18:30:28 -0500 (Mon, 03 Feb 2025) EndedAt: 2025-02-03 18:30:57 -0500 (Mon, 03 Feb 2025) EllapsedTime: 29.0 seconds RetCode: 0 Status: OK PackageFile: DFP_1.64.0.tar.gz PackageFileSize: 496.9 KiB