Package: DFP Version: 1.64.0 Command: /home/biocbuild/bbs-3.20-bioc/R/bin/R CMD INSTALL DFP StartedAt: 2025-02-10 15:12:12 -0500 (Mon, 10 Feb 2025) EndedAt: 2025-02-10 15:12:16 -0500 (Mon, 10 Feb 2025) EllapsedTime: 4.0 seconds RetCode: 0 Status: OK