Package: DFP Version: 1.64.0 Command: rm -rf DFP.buildbin-libdir && mkdir DFP.buildbin-libdir && F:\biocbuild\bbs-3.20-bioc\R\bin\R.exe CMD INSTALL --build --library=DFP.buildbin-libdir DFP_1.64.0.tar.gz StartedAt: 2025-02-04 08:22:32 -0500 (Tue, 04 Feb 2025) EndedAt: 2025-02-04 08:22:45 -0500 (Tue, 04 Feb 2025) EllapsedTime: 13.7 seconds RetCode: 0 Status: OK PackageFile: DFP_1.64.0.zip PackageFileSize: 566.9 KiB