Package: DFP Version: 1.64.0 Command: chmod a+r DFP -R && F:\biocbuild\bbs-3.20-bioc\R\bin\R.exe CMD build --keep-empty-dirs --no-resave-data DFP StartedAt: 2025-02-03 18:40:46 -0500 (Mon, 03 Feb 2025) EndedAt: 2025-02-03 18:41:07 -0500 (Mon, 03 Feb 2025) EllapsedTime: 20.1 seconds RetCode: 0 Status: OK PackageFile: DFP_1.64.0.tar.gz PackageFileSize: 355 KiB