Package: DFP Version: 1.64.0 Command: F:\biocbuild\bbs-3.20-bioc\R\bin\R.exe CMD INSTALL DFP StartedAt: 2025-02-03 15:35:57 -0500 (Mon, 03 Feb 2025) EndedAt: 2025-02-03 15:36:10 -0500 (Mon, 03 Feb 2025) EllapsedTime: 12.6 seconds RetCode: 0 Status: OK