Package: DIAlignR Version: 2.14.0 Command: rm -rf DIAlignR.buildbin-libdir && mkdir DIAlignR.buildbin-libdir && /Users/biocbuild/BBS/utils/build-universal.sh DIAlignR_2.14.0.tar.gz /Library/Frameworks/R.framework/Resources/bin/R DIAlignR.buildbin-libdir StartedAt: 2025-02-04 12:49:39 -0500 (Tue, 04 Feb 2025) EndedAt: 2025-02-04 12:51:57 -0500 (Tue, 04 Feb 2025) EllapsedTime: 137.3 seconds RetCode: 0 Status: OK PackageFile: DIAlignR_2.14.0.tgz PackageFileSize: 4.807 MiB