Package: DIAlignR Version: 2.14.0 Command: /Library/Frameworks/R.framework/Resources/bin/R CMD build --keep-empty-dirs --no-resave-data DIAlignR StartedAt: 2025-02-03 18:31:31 -0500 (Mon, 03 Feb 2025) EndedAt: 2025-02-03 18:34:56 -0500 (Mon, 03 Feb 2025) EllapsedTime: 204.8 seconds RetCode: 0 Status: OK PackageFile: DIAlignR_2.14.0.tar.gz PackageFileSize: 4.27 MiB