Package: DIAlignR Version: 2.14.0 Command: /Library/Frameworks/R.framework/Resources/bin/R CMD INSTALL DIAlignR StartedAt: 2025-02-17 15:42:04 -0500 (Mon, 17 Feb 2025) EndedAt: 2025-02-17 15:44:10 -0500 (Mon, 17 Feb 2025) EllapsedTime: 126.3 seconds RetCode: 0 Status: OK