Package: DIAlignR Version: 2.14.0 Command: /home/biocbuild/bbs-3.20-bioc/R/bin/R CMD build --keep-empty-dirs --no-resave-data --md5 DIAlignR StartedAt: 2025-02-03 17:11:37 -0500 (Mon, 03 Feb 2025) EndedAt: 2025-02-03 17:12:57 -0500 (Mon, 03 Feb 2025) EllapsedTime: 80.1 seconds RetCode: 0 Status: OK PackageFile: DIAlignR_2.14.0.tar.gz PackageFileSize: 4.264 MiB