Package: DIAlignR Version: 2.14.0 Command: /home/biocbuild/bbs-3.20-bioc/R/bin/R CMD check --install=check:DIAlignR.install-out.txt --library=/home/biocbuild/bbs-3.20-bioc/R/site-library --timings DIAlignR_2.14.0.tar.gz StartedAt: 2025-02-03 21:49:37 -0500 (Mon, 03 Feb 2025) EndedAt: 2025-02-03 21:52:27 -0500 (Mon, 03 Feb 2025) EllapsedTime: 170.1 seconds RetCode: 1 Status: ERROR CheckDir: DIAlignR.Rcheck Warnings: NA