Package: DIAlignR Version: 2.14.0 Command: chmod a+r DIAlignR -R && F:\biocbuild\bbs-3.20-bioc\R\bin\R.exe CMD build --keep-empty-dirs --no-resave-data DIAlignR StartedAt: 2025-02-03 18:41:08 -0500 (Mon, 03 Feb 2025) EndedAt: 2025-02-03 18:43:16 -0500 (Mon, 03 Feb 2025) EllapsedTime: 128.1 seconds RetCode: 0 Status: OK PackageFile: DIAlignR_2.14.0.tar.gz PackageFileSize: 4.02 MiB