Package: DIAlignR Version: 2.14.0 Command: F:\biocbuild\bbs-3.20-bioc\R\bin\R.exe CMD INSTALL DIAlignR StartedAt: 2025-02-03 15:57:36 -0500 (Mon, 03 Feb 2025) EndedAt: 2025-02-03 15:59:58 -0500 (Mon, 03 Feb 2025) EllapsedTime: 141.8 seconds RetCode: 0 Status: OK